BEGIN:VCALENDAR
VERSION:2.0
CALSCALE:GREGORIAN
PRODID:adamgibbons/ics
METHOD:PUBLISH
X-PUBLISHED-TTL:PT1H
BEGIN:VEVENT
UID:1506@lapunta.org
SUMMARY:ROCKABILLY-PSYCHOBILLY NIGHT
DTSTAMP:20260424T070237Z
DTSTART:20221208T210000Z
DTEND:20221208T230000Z
DESCRIPTION:Next Emerson presenta:\n\n\nROCKABILLY&PSYCHOBILLY NIGHT EVIL D
	EVIL + THE LOW RANGER\n\n\n\nGiovedì 8 dicembre\n\nil Next Emerson present
	a una scoppiettante serata tutta a base di rockabilly e\npsychobilly!\n\n\
	nEcco con chi:\n\n\nEVIL DEVIL\n\nEvil Devil is a Psychobilly italian band
	 born in 2001. They record ed 5 albums\nfor Crazy Love Records and they ar
	e actually working on the 6th album. The band\nhas played shows worlwide\,
	 from CBGB's in 2004 to Russia in 2011 and shared\nstages with internation
	al bands as Toy Dolls and Exploited.\n\n\n\n\nTHE LOW RANGER\n\none man ba
	nd\, the low fi palladin!!! Neo Rockabilly Psychobilly. Call me if you\nar
	e in danger and I run to help you!!! After more than 800 gigs played in bo
	th\nItaly and Europe.\n\n\n\nE\, dopo i fantastici concerti\, che iniziano
	 alle 22 puntuali\, un dj set bello\nfrizzantino con BloodyMari & Nina.\n\
	n\n\nAccorrete numerosi e scatenati!\n\n\n\nNo fascisti\nno razzisti\nno s
	essisti
URL:https://lapunta.org/event/rockabilly-psychobilly-night
LOCATION:NextEmerson - Via di Bellagio 15\, zona Castello - Firenze
STATUS:CONFIRMED
CATEGORIES:concerti,evil devil,live,psychobilly,rock and roll,rockabilly
X-ALT-DESC;FMTTYPE=text/html:<p>Next Emerson presenta: </p><h2>ROCKABILLY&a
	mp;PSYCHOBILLY night EVIL DEVIL + The Low Ranger</h2><p></p><p>Giovedì 8 d
	icembre </p><p>il Next Emerson presenta una scoppiettante serata tutta a b
	ase di rockabilly e psychobilly! <br></p><p>Ecco con chi:</p><h3>EVIL DEVI
	L</h3><p>Evil Devil is a Psychobilly italian band born in 2001. They recor
	d ed 5 albums for Crazy Love Records and they are actually working on the 
	6th album. The band has played shows worlwide, from CBGB's in 2004 to Russ
	ia in 2011 and shared stages with international bands as Toy Dolls and Exp
	loited.</p><p></p><h3>The LOW RANGER</h3><p>one man band, the low fi palla
	din!!! Neo Rockabilly Psychobilly. Call me if you are in danger and I run 
	to help you!!! After more than 800 gigs played in both Italy and Europe.</
	p><p></p><p>E, dopo i fantastici concerti, che iniziano alle 22 puntuali, 
	un dj set bello frizzantino con BloodyMari &amp; Nina.</p><p></p><p>Accorr
	ete numerosi e scatenati!</p><p></p><p>No fascisti<br>no razzisti<br>no se
	ssisti</p>
END:VEVENT
END:VCALENDAR
